BEGIN:VCALENDAR
PRODID:-//eluceo/ical//2.0/EN
VERSION:2.0
CALSCALE:GREGORIAN
BEGIN:VEVENT
UID:4f7f75706407b4d697a3eaf193b6d90f
DTSTAMP:20260425T140147Z
SUMMARY:MJCC Film Screening
DESCRIPTION:Jewish Community Partners\nMemphis Jewish Community Calendar\nh
 ttps://jcpmemphis.org/community-calendar/mjcc-film-screening-1516217932\n\
 nMJCC Film Screening
DTSTART;TZID=America/Chicago:20180515T190000
DTEND;TZID=America/Chicago:20180515T210000
END:VEVENT
END:VCALENDAR
