BEGIN:VCALENDAR
PRODID:-//eluceo/ical//2.0/EN
VERSION:2.0
CALSCALE:GREGORIAN
BEGIN:VEVENT
UID:25c758847d034fd268914edae5ef9c3b
DTSTAMP:20260421T095129Z
SUMMARY:MJCC Literary and Cultural Arts Festival
DESCRIPTION:Jewish Community Partners\nMemphis Jewish Community Calendar\nh
 ttps://jcpmemphis.org/community-calendar/mjcc-literary-and-cultural-arts-f
 estival-1426110231\n\nMJCC Literary and Cultural Arts Festival\n\nDani Kle
 in Modisett - Take my Spouse Please - Comedian
DTSTART;TZID=America/Chicago:20151029T193000
DTEND;TZID=America/Chicago:20151029T220000
END:VEVENT
END:VCALENDAR
