BEGIN:VCALENDAR
PRODID:-//eluceo/ical//2.0/EN
VERSION:2.0
CALSCALE:GREGORIAN
BEGIN:VEVENT
UID:a5f1ffe2e3d1bb4b5e89661189b0f9d6
DTSTAMP:20260419T160505Z
SUMMARY:MJCC Sweetheart Dance with Me and My Guy
DESCRIPTION:Jewish Community Partners\nMemphis Jewish Community Calendar\nh
 ttps://jcpmemphis.org/community-calendar/mjcc-sweetheart-dance-with-me-and
 -my-guy\n\nMJCC Sweetheart Dance 
DTSTART;TZID=America/Chicago:20140125T190000
DTEND;TZID=America/Chicago:20140125T210000
END:VEVENT
END:VCALENDAR
