BEGIN:VCALENDAR
PRODID:-//eluceo/ical//2.0/EN
VERSION:2.0
CALSCALE:GREGORIAN
BEGIN:VEVENT
UID:78938109012609972c3f45eaab7dcc55
DTSTAMP:20260422T065620Z
SUMMARY:MJCC Young Adults: Throwback 90s Trivia Night
DESCRIPTION:Jewish Community Partners\nMemphis Jewish Community Calendar\nh
 ttps://jcpmemphis.org/community-calendar/mjcc-young-adults-throwback-90s-t
 rivia-night-1507061426\n\nWhich band formed first: NSYNC or the Backstreet
  Boys? Rocko\, of the Nickelodeon animated series "Rocko's Modern Life\," 
 was what kind of animal? Which was the highest grossing movie of the '90s\
 , Jurassic Park or Titanic? I'll give you snaps if you know these answers.
  If you think you're all that and a bag chips because you know all things 
 90s\, then you need to grab your crew and head to the J Saturday night Dec
 . 23rd for Throwback Trivia Night.
DTSTART;TZID=America/Chicago:20171223T200000
DTEND;TZID=America/Chicago:20171223T230000
END:VEVENT
END:VCALENDAR
