BEGIN:VCALENDAR
PRODID:-//eluceo/ical//2.0/EN
VERSION:2.0
CALSCALE:GREGORIAN
BEGIN:VEVENT
UID:5eb010167ca0f2930c9be6a0cf2036c0
DTSTAMP:20260423T041153Z
SUMMARY:MJF Allocations Bus Tour
DESCRIPTION:Jewish Community Partners\nMemphis Jewish Community Calendar\nh
 ttps://jcpmemphis.org/community-calendar/mjf-allocations-bus-tour-31126\n\
 nMJF Allocations Bus Tour
DTSTART;TZID=America/Chicago:20130414T090000
DTEND;TZID=America/Chicago:20130414T170000
END:VEVENT
END:VCALENDAR
