BEGIN:VCALENDAR
PRODID:-//eluceo/ical//2.0/EN
VERSION:2.0
CALSCALE:GREGORIAN
BEGIN:VEVENT
UID:f30ec71220a838ec64ee914a66349446
DTSTAMP:20260419T185128Z
SUMMARY:MJF Community Kick-Off
DESCRIPTION:Jewish Community Partners\nMemphis Jewish Community Calendar\nh
 ttps://jcpmemphis.org/community-calendar/mjf-community-kick-off\n\nMemphis
  Jewish Federation Community Campaign Kickoff Event with Allison Lebovitz
DTSTART;TZID=America/Chicago:20151022T180000
DTEND;TZID=America/Chicago:20151022T220000
END:VEVENT
END:VCALENDAR
