BEGIN:VCALENDAR
PRODID:-//eluceo/ical//2.0/EN
VERSION:2.0
CALSCALE:GREGORIAN
BEGIN:VEVENT
UID:e162c2b055d205a37bfdce934c9fd3c5
DTSTAMP:20260419T131137Z
SUMMARY:MJF Final Grant Meeting
DESCRIPTION:Jewish Community Partners\nMemphis Jewish Community Calendar\nh
 ttps://jcpmemphis.org/community-calendar/mjf-final-grant-meeting\n\nMJF Fi
 nal Grant Meeting
DTSTART;TZID=America/Chicago:20160516T180000
DTEND;TZID=America/Chicago:20160516T210000
END:VEVENT
END:VCALENDAR
