BEGIN:VCALENDAR
PRODID:-//eluceo/ical//2.0/EN
VERSION:2.0
CALSCALE:GREGORIAN
BEGIN:VEVENT
UID:e02a0dd34158fa4c7b35b549e1bed329
DTSTAMP:20260423T190514Z
SUMMARY:MJF Presidents Council Meeting
DESCRIPTION:Jewish Community Partners\nMemphis Jewish Community Calendar\nh
 ttps://jcpmemphis.org/community-calendar/mjf-presidents-council-meeting\n\
 nPresidents Council Meeting
DTSTART;TZID=America/Chicago:20130822T193000
DTEND;TZID=America/Chicago:20130822T203000
END:VEVENT
END:VCALENDAR
