BEGIN:VCALENDAR
PRODID:-//eluceo/ical//2.0/EN
VERSION:2.0
CALSCALE:GREGORIAN
BEGIN:VEVENT
UID:96a5f27195d08e3e03eeecb5b2eed7cd
DTSTAMP:20260422T022143Z
SUMMARY:MJHR Board Meeting
DESCRIPTION:Jewish Community Partners\nMemphis Jewish Community Calendar\nh
 ttps://jcpmemphis.org/community-calendar/mjhr-board-meeting-1474551598\n\n
 MJHR Board Meeting
DTSTART;TZID=America/Chicago:20171204T173000
DTEND;TZID=America/Chicago:20171204T193000
END:VEVENT
END:VCALENDAR
