BEGIN:VCALENDAR
PRODID:-//eluceo/ical//2.0/EN
VERSION:2.0
CALSCALE:GREGORIAN
BEGIN:VEVENT
UID:5f2be4450ece0a4197450746e0886b67
DTSTAMP:20260422T025148Z
SUMMARY:MJHR Executive Committee Meeting
DESCRIPTION:Jewish Community Partners\nMemphis Jewish Community Calendar\nh
 ttps://jcpmemphis.org/community-calendar/mjhr-executive-committee-meeting-
 1510083679\n\nMJHR Executive Committee Meeting
DTSTART;TZID=America/Chicago:20180718T173000
DTEND;TZID=America/Chicago:20180718T235959
END:VEVENT
END:VCALENDAR
