BEGIN:VCALENDAR
PRODID:-//eluceo/ical//2.0/EN
VERSION:2.0
CALSCALE:GREGORIAN
BEGIN:VEVENT
UID:87f7afd7750854e136ee8ff9007cab34
DTSTAMP:20260422T203842Z
SUMMARY:MJHR Executive Committee Meeting
DESCRIPTION:Jewish Community Partners\nMemphis Jewish Community Calendar\nh
 ttps://jcpmemphis.org/community-calendar/mjhr-executive-committee-meeting-
 1542468430\n\nMJHR Executive Committee Meeting
DTSTART;TZID=America/Chicago:20190116T173000
DTEND;TZID=America/Chicago:20190116T183000
END:VEVENT
END:VCALENDAR
