BEGIN:VCALENDAR
PRODID:-//eluceo/ical//2.0/EN
VERSION:2.0
CALSCALE:GREGORIAN
BEGIN:VEVENT
UID:0c0c5b580e72308177e35e8e759a80b7
DTSTAMP:20260422T011946Z
SUMMARY:Movie Matinee at ASBEE:  Phoenix
DESCRIPTION:Jewish Community Partners\nMemphis Jewish Community Calendar\nh
 ttps://jcpmemphis.org/community-calendar/movie-matinee-at-asbee--phoenix-1
 493841622\n\n\nA disfigured Holocaust survivor sets out to determine if th
 e man she loved betrayed her trust.\nDirector: Christian Petzold\nWriters:
  Christian Petzold (screenplay)\, Harun Farocki | 1 more credit &raquo\;\n
 Stars: Nina Hoss\, Ronald Zehrfeld\, Nina Kunzendorf |\nIn German\, with E
 nglish subtitles\n\n
DTSTART;TZID=America/Chicago:20170611T163000
DTEND;TZID=America/Chicago:20170611T181500
END:VEVENT
END:VCALENDAR
