BEGIN:VCALENDAR
PRODID:-//eluceo/ical//2.0/EN
VERSION:2.0
CALSCALE:GREGORIAN
BEGIN:VEVENT
UID:6c3df9e6bc0c4c919824730f7f1e99d5
DTSTAMP:20260420T071336Z
SUMMARY:NCSY Phonathon 
DESCRIPTION:Jewish Community Partners\nMemphis Jewish Community Calendar\nh
 ttps://jcpmemphis.org/community-calendar/ncsy-phonathon-1440551336\n\nNCSY
 ers will be making phone calls raising money for our Midwest NCSY Sefer To
 rah.
DTSTART;TZID=America/Chicago:20150920T103000
DTEND;TZID=America/Chicago:20150920T143000
END:VEVENT
END:VCALENDAR
