BEGIN:VCALENDAR
PRODID:-//eluceo/ical//2.0/EN
VERSION:2.0
CALSCALE:GREGORIAN
BEGIN:VEVENT
UID:15eda1401bd4350bed044c3b7cb390da
DTSTAMP:20260419T174005Z
SUMMARY:Nosh & Learn with Israeli Scholar in Residence
DESCRIPTION:Jewish Community Partners\nMemphis Jewish Community Calendar\nh
 ttps://jcpmemphis.org/community-calendar/nosh--learn-with-israeli-scholar-
 in-residence-1449173205\n\nThis Nosh & Learn: Breakfast with Israeli Schol
 ar in Residence is the last chance to learn from Abraham Silver and enjoy 
 a bagel with schmear. The topic is on The Fight for Al Aksa. Young Palesti
 nians are willing to attack Israelis in the streets even though there is a
  good chance they will be killed. We will explore what is going on in Isra
 el today. How did we get to this point? What is the feeling on the Palesti
 nian street? What are the narratives given by both sides including Abbas' 
 incite...
DTSTART;TZID=America/Chicago:20160204T073000
DTEND;TZID=America/Chicago:20160204T083000
END:VEVENT
END:VCALENDAR
