BEGIN:VCALENDAR
PRODID:-//eluceo/ical//2.0/EN
VERSION:2.0
CALSCALE:GREGORIAN
BEGIN:VEVENT
UID:48eac162dfd5d19cd484093d266ef5f8
DTSTAMP:20260422T113637Z
SUMMARY:Nosh & Learn with the JAFI Shlichim
DESCRIPTION:Jewish Community Partners\nMemphis Jewish Community Calendar\nh
 ttps://jcpmemphis.org/community-calendar/nosh--learn-with-the-jafi-shlichi
 m-1520457989\n\nJoin us for a Nosh & Learn with Shlichim from the Jewish A
 gency for Israel. Bring your own lunch.
DTSTART;TZID=America/Chicago:20180416T123000
DTEND;TZID=America/Chicago:20180416T133000
END:VEVENT
END:VCALENDAR
