BEGIN:VCALENDAR
PRODID:-//eluceo/ical//2.0/EN
VERSION:2.0
CALSCALE:GREGORIAN
BEGIN:VEVENT
UID:81b119fcb6a491cc9e17fe00ea01e2f2
DTSTAMP:20260423T101738Z
SUMMARY:Pancakes and PJs
DESCRIPTION:Jewish Community Partners\nMemphis Jewish Community Calendar\nh
 ttps://jcpmemphis.org/community-calendar/pancakes-and-pjs-2014\n\nPJ's and
  Panckaes
DTSTART;TZID=America/Chicago:20141225T090000
DTEND;TZID=America/Chicago:20141225T110000
END:VEVENT
END:VCALENDAR
