BEGIN:VCALENDAR
PRODID:-//eluceo/ical//2.0/EN
VERSION:2.0
CALSCALE:GREGORIAN
BEGIN:VEVENT
UID:e64ab8401324675ae3352bb8bf4f26d0
DTSTAMP:20260423T195017Z
SUMMARY:Parent and Me Hebrew Immersion Class
DESCRIPTION:Jewish Community Partners\nMemphis Jewish Community Calendar\nh
 ttps://jcpmemphis.org/community-calendar/parent-and-me-hebrew-immersion-cl
 ass-1445269019\n\nJoin us for a Hebrew Immersion Parent and Me class led b
 y the Bat Ami girls of Margolin Hebrew Academy. This is event is open to p
 arents and children 1-3 years of age.
DTSTART;TZID=America/Chicago:20160221T091500
DTEND;TZID=America/Chicago:20160221T100000
END:VEVENT
END:VCALENDAR
