BEGIN:VCALENDAR
PRODID:-//eluceo/ical//2.0/EN
VERSION:2.0
CALSCALE:GREGORIAN
BEGIN:VEVENT
UID:9d4f407041d12bb9d466bbaa7a40cc96
DTSTAMP:20260421T205541Z
SUMMARY:Passover Food Packing at Baron Hirsch
DESCRIPTION:Jewish Community Partners\nMemphis Jewish Community Calendar\nh
 ttps://jcpmemphis.org/community-calendar/passover-food-packing-at-baron-hi
 rsch-1423090160\n\nPacking food boxes
DTSTART;TZID=America/Chicago:20150329T100000
DTEND;TZID=America/Chicago:20150329T110000
END:VEVENT
END:VCALENDAR
