BEGIN:VCALENDAR
PRODID:-//eluceo/ical//2.0/EN
VERSION:2.0
CALSCALE:GREGORIAN
BEGIN:VEVENT
UID:f72b8c8e3345b116e54da16f41dfd796
DTSTAMP:20260421T090007Z
SUMMARY:PJ Library and Beth Sholom Tu B'shvat Sedar
DESCRIPTION:Jewish Community Partners\nMemphis Jewish Community Calendar\nh
 ttps://jcpmemphis.org/community-calendar/pj-library-and-beth-sholom-tubshv
 at-sedar\n\nJoin PJ Library and Beth Sholom Synagogue on Shabbat morning a
 s we celebrate Tu B'Shevat! The event is free\, but an RSVP is appreciated
 . Contact Stacy Wagerman at swagerman@memjfed.org by Friday\, February 13
 th.
DTSTART;TZID=America/Chicago:20150214T090000
DTEND;TZID=America/Chicago:20150214T110000
END:VEVENT
END:VCALENDAR
