BEGIN:VCALENDAR
PRODID:-//eluceo/ical//2.0/EN
VERSION:2.0
CALSCALE:GREGORIAN
BEGIN:VEVENT
UID:657135bf86732bf9b120c9e01a5ef8b3
DTSTAMP:20260421T185040Z
SUMMARY:Plough Towers Executive & Board Meetings
DESCRIPTION:Jewish Community Partners\nMemphis Jewish Community Calendar\nh
 ttps://jcpmemphis.org/community-calendar/plough-towers-executive--board-me
 etings\n\nPlough Towers Board Mtg
DTSTART;TZID=America/Chicago:20130826T190000
DTEND;TZID=America/Chicago:20130826T203000
END:VEVENT
END:VCALENDAR
