BEGIN:VCALENDAR
PRODID:-//eluceo/ical//2.0/EN
VERSION:2.0
CALSCALE:GREGORIAN
BEGIN:VEVENT
UID:4c63e1e5ec6271b00088e174f26695c2
DTSTAMP:20260419T183615Z
SUMMARY:Princeton Professor Leora Batnitzky at Temple Israel
DESCRIPTION:Jewish Community Partners\nMemphis Jewish Community Calendar\nh
 ttps://jcpmemphis.org/community-calendar/princeton-professor-leora-batnitz
 ky-at-temple-israel\n\nPrinceton Professor Leora Batnitzky
DTSTART;TZID=America/Chicago:20131001T180000
DTEND;TZID=America/Chicago:20131001T210000
END:VEVENT
END:VCALENDAR
