BEGIN:VCALENDAR
PRODID:-//eluceo/ical//2.0/EN
VERSION:2.0
CALSCALE:GREGORIAN
BEGIN:VEVENT
UID:010a3c46c1fea34dd93857da42ddccd4
DTSTAMP:20260423T192444Z
SUMMARY:Rabbi Danziger will speak at Temple Israel
DESCRIPTION:Jewish Community Partners\nMemphis Jewish Community Calendar\nh
 ttps://jcpmemphis.org/community-calendar/rabbi-danziger-will-speak-at-temp
 le-israel-1413842318\n\nRabbi Danziger will speak at Temple Israel on how 
 his favorite sermons relate to today. 
DTSTART;TZID=America/Chicago:20150407T190000
DTEND;TZID=America/Chicago:20150407T203000
END:VEVENT
END:VCALENDAR
