BEGIN:VCALENDAR
PRODID:-//eluceo/ical//2.0/EN
VERSION:2.0
CALSCALE:GREGORIAN
BEGIN:VEVENT
UID:a1eb5a3f368fb032b10069917aa28950
DTSTAMP:20260419T144247Z
SUMMARY:Regional Jewish Singles Event
DESCRIPTION:Jewish Community Partners\nMemphis Jewish Community Calendar\nh
 ttps://jcpmemphis.org/community-calendar/regional-jewish-singles-event-142
 6021026\n\nSingles Event with Friday night dinner and Saturday night party
 . 20's and 30's - must be 21 years old.
DTSTART;TZID=America/Chicago:20150828T000000
DTEND;TZID=America/Chicago:20150830T000000
END:VEVENT
END:VCALENDAR
