BEGIN:VCALENDAR
PRODID:-//eluceo/ical//2.0/EN
VERSION:2.0
CALSCALE:GREGORIAN
BEGIN:VEVENT
UID:6f715e6131c51770e81899c431ccdaef
DTSTAMP:20260422T133311Z
SUMMARY:Renewal: Beth Sholom Women's Rosh Hodesh Group
DESCRIPTION:Jewish Community Partners\nMemphis Jewish Community Calendar\nh
 ttps://jcpmemphis.org/community-calendar/renewal-beth-sholom-womens-rosh-h
 odesh-group2\n\nBeth Sholom women (and friends!) ages 16+ are invited to l
 earn together\, schmooze\, and reflect on the upcoming month. 
DTSTART;TZID=America/Chicago:20180215T190000
DTEND;TZID=America/Chicago:20180215T200000
END:VEVENT
END:VCALENDAR
