BEGIN:VCALENDAR
PRODID:-//eluceo/ical//2.0/EN
VERSION:2.0
CALSCALE:GREGORIAN
BEGIN:VEVENT
UID:81f484e25f30017e1320ba8ff1644923
DTSTAMP:20260425T174333Z
SUMMARY:Rhodes Hillel New Student Reception
DESCRIPTION:Jewish Community Partners\nMemphis Jewish Community Calendar\nh
 ttps://jcpmemphis.org/community-calendar/rhodes-hillel-new-student-recepti
 on\n\nRhodes Hillel New Student Reception\n\nThursday\, August 20th from 5
 -6:30 at the Peabody
DTSTART;TZID=America/Chicago:20200820T170000
DTEND;TZID=America/Chicago:20200820T183000
END:VEVENT
END:VCALENDAR
