BEGIN:VCALENDAR
PRODID:-//eluceo/ical//2.0/EN
VERSION:2.0
CALSCALE:GREGORIAN
BEGIN:VEVENT
UID:5222b76ba18fce260ba96a649088ed86
DTSTAMP:20260423T062423Z
SUMMARY:rosh  chodesh society - chabad womens circle
DESCRIPTION:Jewish Community Partners\nMemphis Jewish Community Calendar\nh
 ttps://jcpmemphis.org/community-calendar/rosh--chodesh-society---chabad-wo
 mens-circle-1508960414\n\nmoothly rosh chodesh womens gathering
DTSTART;TZID=America/Chicago:20171121T190000
DTEND;TZID=America/Chicago:20171121T210000
END:VEVENT
END:VCALENDAR
