BEGIN:VCALENDAR
PRODID:-//eluceo/ical//2.0/EN
VERSION:2.0
CALSCALE:GREGORIAN
BEGIN:VEVENT
UID:5a03d8eac721d2fc2b95591a516d5c83
DTSTAMP:20260420T013411Z
SUMMARY:Scholar in Residence - Rabbi Anthony Manning
DESCRIPTION:Jewish Community Partners\nMemphis Jewish Community Calendar\nh
 ttps://jcpmemphis.org/community-calendar/scholar-in-residence---rabbi-anth
 ony-manning-1517236639\n\nAs part of Israel's 70th Anniversary
DTSTART;TZID=America/Chicago:20180413T180000
DTEND;TZID=America/Chicago:20180414T190000
END:VEVENT
END:VCALENDAR
