BEGIN:VCALENDAR
PRODID:-//eluceo/ical//2.0/EN
VERSION:2.0
CALSCALE:GREGORIAN
BEGIN:VEVENT
UID:b7d5d780224c07036c4fe7baaed797f7
DTSTAMP:20260420T130806Z
SUMMARY:Shir Chadash
DESCRIPTION:Jewish Community Partners\nMemphis Jewish Community Calendar\nh
 ttps://jcpmemphis.org/community-calendar/shir-chadash-1475166562\n\nMusica
 l Kabbalat Shabbat
DTSTART;TZID=America/Chicago:20161118T180000
DTEND;TZID=America/Chicago:20161118T200000
END:VEVENT
END:VCALENDAR
