BEGIN:VCALENDAR
PRODID:-//eluceo/ical//2.0/EN
VERSION:2.0
CALSCALE:GREGORIAN
BEGIN:VEVENT
UID:2ae7520f050c0b9ead0adff9c7c4daff
DTSTAMP:20260420T054513Z
SUMMARY:Shir Chadash
DESCRIPTION:Jewish Community Partners\nMemphis Jewish Community Calendar\nh
 ttps://jcpmemphis.org/community-calendar/shir-chadash-1475166804\n\nMusica
 l Kabbalat Shabbat
DTSTART;TZID=America/Chicago:20161230T170000
DTEND;TZID=America/Chicago:20161230T190000
END:VEVENT
END:VCALENDAR
