BEGIN:VCALENDAR
PRODID:-//eluceo/ical//2.0/EN
VERSION:2.0
CALSCALE:GREGORIAN
BEGIN:VEVENT
UID:9e2d32a76f2b971197c3adb73caa336a
DTSTAMP:20260419T162112Z
SUMMARY:Sukkah Hop
DESCRIPTION:Jewish Community Partners\nMemphis Jewish Community Calendar\nh
 ttps://jcpmemphis.org/community-calendar/sukkah-hop-1475093141\n\nSukkah H
 op
DTSTART;TZID=America/Chicago:20161022T191500
DTEND;TZID=America/Chicago:20161022T220000
END:VEVENT
END:VCALENDAR
