BEGIN:VCALENDAR
PRODID:-//eluceo/ical//2.0/EN
VERSION:2.0
CALSCALE:GREGORIAN
BEGIN:VEVENT
UID:b0785b372e5d853d60c9d11fe6f40059
DTSTAMP:20260421T144728Z
SUMMARY:Taste Of Jewish Memphis Shabbaton
DESCRIPTION:Jewish Community Partners\nMemphis Jewish Community Calendar\nh
 ttps://jcpmemphis.org/community-calendar/taste-of-jewish-memphis-shabbaton
 -1429732846\n\nShabbaton weekend to introduce visitors to our wonderful co
 mmunity!
DTSTART;TZID=America/Chicago:20150529T000000
DTEND;TZID=America/Chicago:20150531T140000
END:VEVENT
END:VCALENDAR
