BEGIN:VCALENDAR
PRODID:-//eluceo/ical//2.0/EN
VERSION:2.0
CALSCALE:GREGORIAN
BEGIN:VEVENT
UID:d9caf200970208cf6482a1180e9ee0c7
DTSTAMP:20260422T000034Z
SUMMARY:Teen Israel Experince  Orientation for Teens & Parents
DESCRIPTION:Jewish Community Partners\nMemphis Jewish Community Calendar\nh
 ttps://jcpmemphis.org/community-calendar/teen-israel-experince-orientation
 -for-teens--parents\n\nTeen Israel Experience Orientation\n\nOrientation f
 or Teens: JCC Board Room\n\nOrientation for Parents: JCP Conference Room
DTSTART;TZID=America/Chicago:20200322T100000
DTEND;TZID=America/Chicago:20200322T110000
END:VEVENT
END:VCALENDAR
