BEGIN:VCALENDAR
PRODID:-//eluceo/ical//2.0/EN
VERSION:2.0
CALSCALE:GREGORIAN
BEGIN:VEVENT
UID:e7728f39e913e8133a91df7037ce6e93
DTSTAMP:20260419T144354Z
SUMMARY:Tekes Yom HaZikaron B'Ivrit
DESCRIPTION:Jewish Community Partners\nMemphis Jewish Community Calendar\nh
 ttps://jcpmemphis.org/community-calendar/tekes-yom-hazikaron-bivrit-152520
 9031\n\nA Yom HaZikaron ceremony in Hebrew to honor the memories of Israel
 s victims of terror and soldiers lost in combat.
DTSTART;TZID=America/Chicago:20190507T190000
DTEND;TZID=America/Chicago:20190507T210000
END:VEVENT
END:VCALENDAR
