BEGIN:VCALENDAR
PRODID:-//eluceo/ical//2.0/EN
VERSION:2.0
CALSCALE:GREGORIAN
BEGIN:VEVENT
UID:4d1770fb501c81fa3667eeefc4067d67
DTSTAMP:20260424T205510Z
SUMMARY:Temple Israel Blood Drive
DESCRIPTION:Jewish Community Partners\nMemphis Jewish Community Calendar\nh
 ttps://jcpmemphis.org/community-calendar/temple-israel-blood-drive-1470869
 159\n\nTemple Israel Blood Drive
DTSTART;TZID=America/Chicago:20161211T083000
DTEND;TZID=America/Chicago:20161211T133000
END:VEVENT
END:VCALENDAR
