BEGIN:VCALENDAR
PRODID:-//eluceo/ical//2.0/EN
VERSION:2.0
CALSCALE:GREGORIAN
BEGIN:VEVENT
UID:1c15369f9aeb217d4f265674ada87106
DTSTAMP:20260423T042754Z
SUMMARY:Temple Israel Blood Drive
DESCRIPTION:Jewish Community Partners\nMemphis Jewish Community Calendar\nh
 ttps://jcpmemphis.org/community-calendar/temple-israel-blood-drive-1554309
 048\n\nDonate Blood to Save Lives
DTSTART;TZID=America/Chicago:20190428T083000
DTEND;TZID=America/Chicago:20190428T130000
END:VEVENT
END:VCALENDAR
