BEGIN:VCALENDAR
PRODID:-//eluceo/ical//2.0/EN
VERSION:2.0
CALSCALE:GREGORIAN
BEGIN:VEVENT
UID:ec54e7d85b6d68a65d1a2da91cf43fb3
DTSTAMP:20260422T221428Z
SUMMARY:Temple Israel Board of Trustees Meeting
DESCRIPTION:Jewish Community Partners\nMemphis Jewish Community Calendar\nh
 ttps://jcpmemphis.org/community-calendar/temple-israel-board-of-trustees-m
 eeting-1470176829\n\nTemple Israel Board of Trustees Meeting
DTSTART;TZID=America/Chicago:20170228T190000
DTEND;TZID=America/Chicago:20170228T210000
END:VEVENT
END:VCALENDAR
