BEGIN:VCALENDAR
PRODID:-//eluceo/ical//2.0/EN
VERSION:2.0
CALSCALE:GREGORIAN
BEGIN:VEVENT
UID:cb3d814cf1ff514443627a63aa8bbaaa
DTSTAMP:20260422T090840Z
SUMMARY:Temple Israel Board of Trustees Meetings
DESCRIPTION:Jewish Community Partners\nMemphis Jewish Community Calendar\nh
 ttps://jcpmemphis.org/community-calendar/temple-israel-board-of-trustees-m
 eetings-1437419257\n\nTemple Israel Board of Trustees Meeting at 5:30 pm f
 ollowed by Executive Board Meeting at 7pm.
DTSTART;TZID=America/Chicago:20160329T173000
DTEND;TZID=America/Chicago:20160329T210000
END:VEVENT
END:VCALENDAR
