BEGIN:VCALENDAR
PRODID:-//eluceo/ical//2.0/EN
VERSION:2.0
CALSCALE:GREGORIAN
BEGIN:VEVENT
UID:c133d3b1480588152848f44464e7e0a5
DTSTAMP:20260420T043316Z
SUMMARY:Temple Israel Graduation
DESCRIPTION:Jewish Community Partners\nMemphis Jewish Community Calendar\nh
 ttps://jcpmemphis.org/community-calendar/temple-israel-graduation-15544941
 52\n\nGraduation of H.S. Seniors
DTSTART;TZID=America/Chicago:20190510T180000
DTEND;TZID=America/Chicago:20190510T193000
END:VEVENT
END:VCALENDAR
