BEGIN:VCALENDAR
PRODID:-//eluceo/ical//2.0/EN
VERSION:2.0
CALSCALE:GREGORIAN
BEGIN:VEVENT
UID:9cfec6df6b14dda6978a3d7cc4d96653
DTSTAMP:20260421T113020Z
SUMMARY:Temple Israel Prime Timers at Theatre Memphis
DESCRIPTION:Jewish Community Partners\nMemphis Jewish Community Calendar\nh
 ttps://jcpmemphis.org/community-calendar/temple-israel-prime-timers-at-the
 atre-memphis-1508359318\n\nThe Temple Israel Prime Timers will have lunch 
 and see the show 42nd Street at Theatre Memphis.
DTSTART;TZID=America/Chicago:20180610T120000
DTEND;TZID=America/Chicago:20180610T163000
END:VEVENT
END:VCALENDAR
