BEGIN:VCALENDAR
PRODID:-//eluceo/ical//2.0/EN
VERSION:2.0
CALSCALE:GREGORIAN
BEGIN:VEVENT
UID:1bd1629c6bf1f7a86d7f4a1b41b4818e
DTSTAMP:20260421T084342Z
SUMMARY:Temple Israel Sisterhood  Night at Dazzle
DESCRIPTION:Jewish Community Partners\nMemphis Jewish Community Calendar\nh
 ttps://jcpmemphis.org/community-calendar/temple-israel-sisterhood--night-a
 t-dazzle-1443479916\n\nDazzle\, 7730 Poplar Ave.\, Suite 2
DTSTART;TZID=America/Chicago:20151117T180000
DTEND;TZID=America/Chicago:20151117T200000
END:VEVENT
END:VCALENDAR
