BEGIN:VCALENDAR
PRODID:-//eluceo/ical//2.0/EN
VERSION:2.0
CALSCALE:GREGORIAN
BEGIN:VEVENT
UID:c40d285e8ce36d1da3e78a601346c8ee
DTSTAMP:20260423T043931Z
SUMMARY:Temple Israel Sisterhood Community Second Seder
DESCRIPTION:Jewish Community Partners\nMemphis Jewish Community Calendar\nh
 ttps://jcpmemphis.org/community-calendar/temple-israel-sisterhood-communit
 y-second-seder-1546614383\n\nSecond Seder open to the community - RSVPs re
 quired
DTSTART;TZID=America/Chicago:20190420T180000
DTEND;TZID=America/Chicago:20190420T200000
END:VEVENT
END:VCALENDAR
