BEGIN:VCALENDAR
PRODID:-//eluceo/ical//2.0/EN
VERSION:2.0
CALSCALE:GREGORIAN
BEGIN:VEVENT
UID:777170b146244b7fd9b912aa9b75c1a6
DTSTAMP:20260422T090810Z
SUMMARY:Temple Israel Sisterhood Rosh Chodesh
DESCRIPTION:Jewish Community Partners\nMemphis Jewish Community Calendar\nh
 ttps://jcpmemphis.org/community-calendar/temple-israel-sisterhood-rosh-cho
 desh-1546612649\n\nRosh Chodesh
DTSTART;TZID=America/Chicago:20190205T190000
DTEND;TZID=America/Chicago:20190205T210000
END:VEVENT
END:VCALENDAR
