BEGIN:VCALENDAR
PRODID:-//eluceo/ical//2.0/EN
VERSION:2.0
CALSCALE:GREGORIAN
BEGIN:VEVENT
UID:16b3a7e6db7b4d362536669c539af539
DTSTAMP:20260422T090751Z
SUMMARY:Temple Israel Sisterhood Rosh Chodesh
DESCRIPTION:Jewish Community Partners\nMemphis Jewish Community Calendar\nh
 ttps://jcpmemphis.org/community-calendar/temple-israel-sisterhood-rosh-cho
 desh-1557258535\n\nRosh Chodesh Nisan
DTSTART;TZID=America/Chicago:20200326T190000
DTEND;TZID=America/Chicago:20200326T210000
END:VEVENT
END:VCALENDAR
