BEGIN:VCALENDAR
PRODID:-//eluceo/ical//2.0/EN
VERSION:2.0
CALSCALE:GREGORIAN
BEGIN:VEVENT
UID:c995efb2ad555dcf1334be7e1c7031be
DTSTAMP:20260421T203047Z
SUMMARY:Temple Israel Virtual Havdalah
DESCRIPTION:Jewish Community Partners\nMemphis Jewish Community Calendar\nh
 ttps://jcpmemphis.org/community-calendar/temple-israel-virtual-havdalah-15
 95356098\n\nCommunity Havdalah Service
DTSTART;TZID=America/Chicago:20200808T200000
DTEND;TZID=America/Chicago:20200808T201500
END:VEVENT
END:VCALENDAR
