BEGIN:VCALENDAR
PRODID:-//eluceo/ical//2.0/EN
VERSION:2.0
CALSCALE:GREGORIAN
BEGIN:VEVENT
UID:24219cb2c61759f0cbfbc08f18fb5543
DTSTAMP:20260421T100106Z
SUMMARY:Memphis Tigers Basketball
DESCRIPTION:Jewish Community Partners\nMemphis Jewish Community Calendar\nh
 ttps://jcpmemphis.org/community-calendar/tigers-nov23\n\nMemphis Tigers vs
 . UT-Arlington
DTSTART;TZID=America/Chicago:20161123T193000
DTEND;TZID=America/Chicago:20161123T213000
END:VEVENT
END:VCALENDAR
