BEGIN:VCALENDAR
PRODID:-//eluceo/ical//2.0/EN
VERSION:2.0
CALSCALE:GREGORIAN
BEGIN:VEVENT
UID:55355d942c8fcdeceb681baeb762b1c9
DTSTAMP:20260419T191704Z
SUMMARY:Titchadshi Women's Class With Mrs. Kahn
DESCRIPTION:Jewish Community Partners\nMemphis Jewish Community Calendar\nh
 ttps://jcpmemphis.org/community-calendar/titchadshi-womens-class-with-mrs-
 kahn-1574194592\n\n"Kislev: The Segulah of Chanukah"
DTSTART;TZID=America/Chicago:20191219T203000
DTEND;TZID=America/Chicago:20191219T204500
END:VEVENT
END:VCALENDAR
