BEGIN:VCALENDAR
PRODID:-//eluceo/ical//2.0/EN
VERSION:2.0
CALSCALE:GREGORIAN
BEGIN:VEVENT
UID:b5bcfc822bde1269f082089931592760
DTSTAMP:20260423T055331Z
SUMMARY:Tu B'Shevat Festival
DESCRIPTION:Jewish Community Partners\nMemphis Jewish Community Calendar\nh
 ttps://jcpmemphis.org/community-calendar/tu-bshevat-festival-1447366680\n\
 nFree event geared for children 6 and under. There will be arts and crafts
 \, duplo mountain building\, dancing\, snacks\, planting seeds and more.
DTSTART;TZID=America/Chicago:20160125T160000
DTEND;TZID=America/Chicago:20160125T170000
END:VEVENT
END:VCALENDAR
