BEGIN:VCALENDAR
PRODID:-//eluceo/ical//2.0/EN
VERSION:2.0
CALSCALE:GREGORIAN
BEGIN:VEVENT
UID:4c440f8805a6201b9c59d6ee113df169
DTSTAMP:20260421T161924Z
SUMMARY:Tu B'Shvat Family Event
DESCRIPTION:Jewish Community Partners\nMemphis Jewish Community Calendar\nh
 ttps://jcpmemphis.org/community-calendar/tu-bshvat-family-event-1485131258
 \n\nFun family event sponsored by Torah MiTzion Kollel & Baron Hirsch
DTSTART;TZID=America/Chicago:20170212T100000
DTEND;TZID=America/Chicago:20170212T113000
END:VEVENT
END:VCALENDAR
