BEGIN:VCALENDAR
PRODID:-//eluceo/ical//2.0/EN
VERSION:2.0
CALSCALE:GREGORIAN
BEGIN:VEVENT
UID:ece25c33a90ce9c30201ce4b62cc5bcc
DTSTAMP:20260420T225845Z
SUMMARY:Women's Pre-Summer Torah Study Program
DESCRIPTION:Jewish Community Partners\nMemphis Jewish Community Calendar\nh
 ttps://jcpmemphis.org/community-calendar/womens-pre-summer-torah-study-pro
 gram-1430165741\n\nBreak-out sessions on the lesser known women of the Bib
 le. Co-sponsored by ASBEE\, Baron Hirsch\, Chabad and Young Israel.
DTSTART;TZID=America/Chicago:20150531T193000
DTEND;TZID=America/Chicago:20150531T203000
END:VEVENT
END:VCALENDAR
