BEGIN:VCALENDAR
PRODID:-//eluceo/ical//2.0/EN
VERSION:2.0
CALSCALE:GREGORIAN
BEGIN:VEVENT
UID:f00fd9277428226d23851d88fe0ebd01
DTSTAMP:20260421T203108Z
SUMMARY:"Women's Seudah Shlishit"
DESCRIPTION:Jewish Community Partners\nMemphis Jewish Community Calendar\nh
 ttps://jcpmemphis.org/community-calendar/womens-seudah-shlishit-1534961389
 \n\n"Women's Seudah Shlishit"
DTSTART;TZID=America/Chicago:20181006T170000
DTEND;TZID=America/Chicago:20181006T180000
END:VEVENT
END:VCALENDAR
